Package: adductomicsR Version: 1.27.0 Command: /Library/Frameworks/R.framework/Resources/bin/R CMD INSTALL adductomicsR StartedAt: 2025-11-14 15:10:44 -0500 (Fri, 14 Nov 2025) EndedAt: 2025-11-14 15:10:53 -0500 (Fri, 14 Nov 2025) EllapsedTime: 8.9 seconds RetCode: 0 Status: OK