Package: adductomicsR Version: 1.27.0 Command: /Library/Frameworks/R.framework/Resources/bin/R CMD build --keep-empty-dirs --no-resave-data adductomicsR StartedAt: 2025-11-14 15:35:29 -0500 (Fri, 14 Nov 2025) EndedAt: 2025-11-14 15:38:03 -0500 (Fri, 14 Nov 2025) EllapsedTime: 153.6 seconds RetCode: 0 Status: OK PackageFile: adductomicsR_1.27.0.tar.gz PackageFileSize: 752 KiB