Package: adductomicsR Version: 1.27.0 Command: rm -rf adductomicsR.buildbin-libdir && mkdir adductomicsR.buildbin-libdir && /Users/biocbuild/BBS/utils/build-universal.sh adductomicsR_1.27.0.tar.gz /Library/Frameworks/R.framework/Resources/bin/R adductomicsR.buildbin-libdir StartedAt: 2025-11-14 23:21:53 -0500 (Fri, 14 Nov 2025) EndedAt: 2025-11-14 23:22:04 -0500 (Fri, 14 Nov 2025) EllapsedTime: 11.3 seconds RetCode: 0 Status: OK PackageFile: adductomicsR_1.27.0.tgz PackageFileSize: 1.228 MiB