Package: adSplit Version: 1.81.0 Command: /home/biocbuild/bbs-3.23-bioc/R/bin/R CMD build --keep-empty-dirs --no-resave-data adSplit StartedAt: 2025-11-13 16:07:58 -0500 (Thu, 13 Nov 2025) EndedAt: 2025-11-13 16:09:48 -0500 (Thu, 13 Nov 2025) EllapsedTime: 110.1 seconds RetCode: 0 Status: OK PackageFile: adSplit_1.81.0.tar.gz PackageFileSize: 536.7 KiB