Package: adSplit Version: 1.81.0 Command: /Library/Frameworks/R.framework/Resources/bin/R CMD INSTALL adSplit StartedAt: 2025-11-12 15:38:19 -0500 (Wed, 12 Nov 2025) EndedAt: 2025-11-12 15:38:26 -0500 (Wed, 12 Nov 2025) EllapsedTime: 6.3 seconds RetCode: 0 Status: OK