Package: adSplit Version: 1.81.0 Command: /Library/Frameworks/R.framework/Resources/bin/R CMD build --keep-empty-dirs --no-resave-data adSplit StartedAt: 2025-11-12 15:47:05 -0500 (Wed, 12 Nov 2025) EndedAt: 2025-11-12 15:47:47 -0500 (Wed, 12 Nov 2025) EllapsedTime: 41.6 seconds RetCode: 0 Status: OK PackageFile: adSplit_1.81.0.tar.gz PackageFileSize: 536.8 KiB