Package: adSplit Version: 1.81.0 Command: rm -rf adSplit.buildbin-libdir && mkdir adSplit.buildbin-libdir && /Users/biocbuild/BBS/utils/build-universal.sh adSplit_1.81.0.tar.gz /Library/Frameworks/R.framework/Resources/bin/R adSplit.buildbin-libdir StartedAt: 2025-11-12 20:50:36 -0500 (Wed, 12 Nov 2025) EndedAt: 2025-11-12 20:50:45 -0500 (Wed, 12 Nov 2025) EllapsedTime: 9.3 seconds RetCode: 0 Status: OK PackageFile: adSplit_1.81.0.tgz PackageFileSize: 561.1 KiB