Package: adSplit Version: 1.81.0 Maintainer: Claudio Lottaz MaintainerEmail: Claudio.Lottaz at klinik.uni-regensburg.de git_url: https://git.bioconductor.org/packages/adSplit git_branch: devel git_last_commit: a2e95b4 git_last_commit_date: 2025-10-29 09:57:38 -0500 (Wed, 29 Oct 2025)