Package: abseqR Version: 1.29.0 Command: /Library/Frameworks/R.framework/Resources/bin/R CMD build --keep-empty-dirs --no-resave-data abseqR StartedAt: 2025-11-13 15:38:29 -0500 (Thu, 13 Nov 2025) EndedAt: 2025-11-13 15:40:25 -0500 (Thu, 13 Nov 2025) EllapsedTime: 116.4 seconds RetCode: 0 Status: OK PackageFile: abseqR_1.29.0.tar.gz PackageFileSize: 2.902 MiB