Package: abseqR Version: 1.29.0 Maintainer: JiaHong Fong MaintainerEmail: jiahfong at gmail.com git_url: https://git.bioconductor.org/packages/abseqR git_branch: devel git_last_commit: 89ae70b git_last_commit_date: 2025-10-29 10:48:45 -0500 (Wed, 29 Oct 2025)