Package: aCGH Version: 1.89.0 Command: /home/biocbuild/bbs-3.23-bioc/R/bin/R CMD INSTALL aCGH StartedAt: 2025-11-14 15:13:07 -0500 (Fri, 14 Nov 2025) EndedAt: 2025-11-14 15:13:18 -0500 (Fri, 14 Nov 2025) EllapsedTime: 10.1 seconds RetCode: 0 Status: OK