Package: aCGH Version: 1.89.0 Command: /Library/Frameworks/R.framework/Resources/bin/R CMD INSTALL aCGH StartedAt: 2025-11-13 15:06:47 -0500 (Thu, 13 Nov 2025) EndedAt: 2025-11-13 15:06:52 -0500 (Thu, 13 Nov 2025) EllapsedTime: 5.1 seconds RetCode: 0 Status: OK