Package: aCGH Version: 1.89.0 Command: /Library/Frameworks/R.framework/Resources/bin/R CMD build --keep-empty-dirs --no-resave-data aCGH StartedAt: 2025-11-13 15:38:29 -0500 (Thu, 13 Nov 2025) EndedAt: 2025-11-13 15:38:42 -0500 (Thu, 13 Nov 2025) EllapsedTime: 13.2 seconds RetCode: 0 Status: OK PackageFile: aCGH_1.89.0.tar.gz PackageFileSize: 2.22 MiB