Package: aCGH Version: 1.89.0 Command: rm -rf aCGH.buildbin-libdir && mkdir aCGH.buildbin-libdir && /Users/biocbuild/BBS/utils/build-universal.sh aCGH_1.89.0.tar.gz /Library/Frameworks/R.framework/Resources/bin/R aCGH.buildbin-libdir StartedAt: 2025-11-13 23:26:47 -0500 (Thu, 13 Nov 2025) EndedAt: 2025-11-13 23:26:53 -0500 (Thu, 13 Nov 2025) EllapsedTime: 6.2 seconds RetCode: 0 Status: OK PackageFile: aCGH_1.89.0.tgz PackageFileSize: 2.497 MiB