Package: a4Reporting Version: 1.59.0 Command: /home/biocbuild/bbs-3.23-bioc/R/bin/R CMD INSTALL a4Reporting StartedAt: 2025-11-16 15:03:13 -0500 (Sun, 16 Nov 2025) EndedAt: 2025-11-16 15:03:18 -0500 (Sun, 16 Nov 2025) EllapsedTime: 4.5 seconds RetCode: 0 Status: OK