Package: a4Reporting Version: 1.59.0 Command: /Library/Frameworks/R.framework/Resources/bin/R CMD INSTALL a4Reporting StartedAt: 2025-11-13 15:01:32 -0500 (Thu, 13 Nov 2025) EndedAt: 2025-11-13 15:01:33 -0500 (Thu, 13 Nov 2025) EllapsedTime: 1.7 seconds RetCode: 0 Status: OK