Package: a4Reporting Version: 1.59.0 Command: /Library/Frameworks/R.framework/Resources/bin/R CMD build --keep-empty-dirs --no-resave-data a4Reporting StartedAt: 2025-11-13 15:38:29 -0500 (Thu, 13 Nov 2025) EndedAt: 2025-11-13 15:38:32 -0500 (Thu, 13 Nov 2025) EllapsedTime: 3.1 seconds RetCode: 0 Status: OK PackageFile: a4Reporting_1.59.0.tar.gz PackageFileSize: 292.9 KiB