Package: a4Reporting Version: 1.59.0 Command: rm -rf a4Reporting.buildbin-libdir && mkdir a4Reporting.buildbin-libdir && /Users/biocbuild/BBS/utils/build-universal.sh a4Reporting_1.59.0.tar.gz /Library/Frameworks/R.framework/Resources/bin/R a4Reporting.buildbin-libdir StartedAt: 2025-11-13 23:26:47 -0500 (Thu, 13 Nov 2025) EndedAt: 2025-11-13 23:26:49 -0500 (Thu, 13 Nov 2025) EllapsedTime: 2.1 seconds RetCode: 0 Status: OK PackageFile: a4Reporting_1.59.0.tgz PackageFileSize: 433.9 KiB