Package: a4Reporting Version: 1.59.0 Maintainer: Laure Cougnaud MaintainerEmail: laure.cougnaud at openanalytics.eu git_url: https://git.bioconductor.org/packages/a4Reporting git_branch: devel git_last_commit: 999bf0e git_last_commit_date: 2025-10-29 10:07:31 -0500 (Wed, 29 Oct 2025)