Package: a4Preproc Version: 1.59.0 Command: /home/biocbuild/bbs-3.23-bioc/R/bin/R CMD INSTALL a4Preproc StartedAt: 2025-11-13 15:12:03 -0500 (Thu, 13 Nov 2025) EndedAt: 2025-11-13 15:12:05 -0500 (Thu, 13 Nov 2025) EllapsedTime: 2.3 seconds RetCode: 0 Status: OK