Package: a4Preproc Version: 1.59.0 Command: rm -rf a4Preproc.buildbin-libdir && mkdir a4Preproc.buildbin-libdir && /Users/biocbuild/BBS/utils/build-universal.sh a4Preproc_1.59.0.tar.gz /Library/Frameworks/R.framework/Resources/bin/R a4Preproc.buildbin-libdir StartedAt: 2025-11-13 23:26:47 -0500 (Thu, 13 Nov 2025) EndedAt: 2025-11-13 23:26:49 -0500 (Thu, 13 Nov 2025) EllapsedTime: 2.1 seconds RetCode: 0 Status: OK PackageFile: a4Preproc_1.59.0.tgz PackageFileSize: 297.3 KiB