Package: a4Core Version: 1.59.0 Command: /home/biocbuild/bbs-3.23-bioc/R/bin/R CMD INSTALL a4Core StartedAt: 2025-11-13 15:13:12 -0500 (Thu, 13 Nov 2025) EndedAt: 2025-11-13 15:13:19 -0500 (Thu, 13 Nov 2025) EllapsedTime: 6.4 seconds RetCode: 0 Status: OK