Package: a4Core Version: 1.59.0 Command: /Library/Frameworks/R.framework/Resources/bin/R CMD build --keep-empty-dirs --no-resave-data a4Core StartedAt: 2025-11-14 15:35:21 -0500 (Fri, 14 Nov 2025) EndedAt: 2025-11-14 15:35:25 -0500 (Fri, 14 Nov 2025) EllapsedTime: 4.1 seconds RetCode: 0 Status: OK PackageFile: a4Core_1.59.0.tar.gz PackageFileSize: 290.5 KiB