Package: a4Core Version: 1.59.0 Maintainer: Laure Cougnaud MaintainerEmail: laure.cougnaud at openanalytics.eu git_url: https://git.bioconductor.org/packages/a4Core git_branch: devel git_last_commit: c04f1a7 git_last_commit_date: 2025-10-29 10:07:28 -0500 (Wed, 29 Oct 2025)