Package: a4Classif Version: 1.59.0 Command: /home/biocbuild/bbs-3.23-bioc/R/bin/R CMD INSTALL a4Classif StartedAt: 2025-11-13 15:13:19 -0500 (Thu, 13 Nov 2025) EndedAt: 2025-11-13 15:13:25 -0500 (Thu, 13 Nov 2025) EllapsedTime: 6.3 seconds RetCode: 0 Status: OK