Package: a4Classif Version: 1.59.0 Command: /home/biocbuild/bbs-3.23-bioc/R/bin/R CMD build --keep-empty-dirs --no-resave-data a4Classif StartedAt: 2025-11-13 16:07:45 -0500 (Thu, 13 Nov 2025) EndedAt: 2025-11-13 16:08:12 -0500 (Thu, 13 Nov 2025) EllapsedTime: 27.1 seconds RetCode: 0 Status: OK PackageFile: a4Classif_1.59.0.tar.gz PackageFileSize: 597.4 KiB