Package: a4Classif Version: 1.59.0 Command: /Library/Frameworks/R.framework/Resources/bin/R CMD INSTALL a4Classif StartedAt: 2025-11-13 15:07:15 -0500 (Thu, 13 Nov 2025) EndedAt: 2025-11-13 15:07:18 -0500 (Thu, 13 Nov 2025) EllapsedTime: 2.5 seconds RetCode: 0 Status: OK