Package: a4Classif Version: 1.59.0 Command: /Library/Frameworks/R.framework/Resources/bin/R CMD build --keep-empty-dirs --no-resave-data a4Classif StartedAt: 2025-11-13 15:38:29 -0500 (Thu, 13 Nov 2025) EndedAt: 2025-11-13 15:38:41 -0500 (Thu, 13 Nov 2025) EllapsedTime: 12.2 seconds RetCode: 0 Status: OK PackageFile: a4Classif_1.59.0.tar.gz PackageFileSize: 614.4 KiB