Package: a4Classif Version: 1.59.0 Maintainer: Laure Cougnaud MaintainerEmail: laure.cougnaud at openanalytics.eu git_url: https://git.bioconductor.org/packages/a4Classif git_branch: devel git_last_commit: 45e0ead git_last_commit_date: 2025-10-29 10:07:26 -0500 (Wed, 29 Oct 2025)