Package: a4Base Version: 1.59.0 Command: /home/biocbuild/bbs-3.23-bioc/R/bin/R CMD check --install=check:a4Base.install-out.txt --library=/home/biocbuild/bbs-3.23-bioc/R/site-library --timings a4Base_1.59.0.tar.gz StartedAt: 2025-11-21 20:54:30 -0500 (Fri, 21 Nov 2025) EndedAt: 2025-11-21 20:57:34 -0500 (Fri, 21 Nov 2025) EllapsedTime: 184.3 seconds RetCode: 0 Status: OK CheckDir: a4Base.Rcheck Warnings: 0