Package: a4Base Version: 1.59.0 Command: /Library/Frameworks/R.framework/Resources/bin/R CMD INSTALL a4Base StartedAt: 2025-11-13 15:27:54 -0500 (Thu, 13 Nov 2025) EndedAt: 2025-11-13 15:28:03 -0500 (Thu, 13 Nov 2025) EllapsedTime: 8.5 seconds RetCode: 0 Status: OK