Package: a4 Version: 1.59.0 Command: /home/biocbuild/bbs-3.23-bioc/R/bin/R CMD build --keep-empty-dirs --no-resave-data a4 StartedAt: 2025-11-19 16:10:51 -0500 (Wed, 19 Nov 2025) EndedAt: 2025-11-19 16:13:18 -0500 (Wed, 19 Nov 2025) EllapsedTime: 147.2 seconds RetCode: 0 Status: OK PackageFile: a4_1.59.0.tar.gz PackageFileSize: 1.206 MiB