Package: a4 Version: 1.59.0 Command: /Library/Frameworks/R.framework/Resources/bin/R CMD INSTALL a4 StartedAt: 2025-11-13 15:28:04 -0500 (Thu, 13 Nov 2025) EndedAt: 2025-11-13 15:28:12 -0500 (Thu, 13 Nov 2025) EllapsedTime: 7.5 seconds RetCode: 0 Status: OK