Package: a4 Version: 1.59.0 Command: rm -rf a4.buildbin-libdir && mkdir a4.buildbin-libdir && /Users/biocbuild/BBS/utils/build-universal.sh a4_1.59.0.tar.gz /Library/Frameworks/R.framework/Resources/bin/R a4.buildbin-libdir StartedAt: 2025-11-13 23:26:47 -0500 (Thu, 13 Nov 2025) EndedAt: 2025-11-13 23:26:56 -0500 (Thu, 13 Nov 2025) EllapsedTime: 9.3 seconds RetCode: 0 Status: OK PackageFile: a4_1.59.0.tgz PackageFileSize: 1.186 MiB