Package: ZygosityPredictor Version: 1.11.0 Command: /home/biocbuild/bbs-3.23-bioc/R/bin/R CMD INSTALL ZygosityPredictor StartedAt: 2025-11-11 15:44:56 -0500 (Tue, 11 Nov 2025) EndedAt: 2025-11-11 15:45:37 -0500 (Tue, 11 Nov 2025) EllapsedTime: 40.6 seconds RetCode: 0 Status: OK