Package: ZygosityPredictor Version: 1.11.0 Command: /home/biocbuild/bbs-3.23-bioc/R/bin/R CMD build --keep-empty-dirs --no-resave-data ZygosityPredictor StartedAt: 2025-11-11 20:53:05 -0500 (Tue, 11 Nov 2025) EndedAt: 2025-11-11 20:54:08 -0500 (Tue, 11 Nov 2025) EllapsedTime: 62.0 seconds RetCode: 0 Status: OK PackageFile: ZygosityPredictor_1.11.0.tar.gz PackageFileSize: 826.6 KiB