Package: ZygosityPredictor Version: 1.11.0 Command: /Library/Frameworks/R.framework/Resources/bin/R CMD INSTALL ZygosityPredictor StartedAt: 2025-11-13 15:22:12 -0500 (Thu, 13 Nov 2025) EndedAt: 2025-11-13 15:22:29 -0500 (Thu, 13 Nov 2025) EllapsedTime: 17.2 seconds RetCode: 0 Status: OK