Package: ZygosityPredictor Version: 1.11.0 Command: /Library/Frameworks/R.framework/Resources/bin/R CMD build --keep-empty-dirs --no-resave-data ZygosityPredictor StartedAt: 2025-11-14 18:08:13 -0500 (Fri, 14 Nov 2025) EndedAt: 2025-11-14 18:08:41 -0500 (Fri, 14 Nov 2025) EllapsedTime: 28.3 seconds RetCode: 0 Status: OK PackageFile: ZygosityPredictor_1.11.0.tar.gz PackageFileSize: 826.6 KiB