Package: ZygosityPredictor Version: 1.11.0 Command: rm -rf ZygosityPredictor.buildbin-libdir && mkdir ZygosityPredictor.buildbin-libdir && /Users/biocbuild/BBS/utils/build-universal.sh ZygosityPredictor_1.11.0.tar.gz /Library/Frameworks/R.framework/Resources/bin/R ZygosityPredictor.buildbin-libdir StartedAt: 2025-11-14 23:57:07 -0500 (Fri, 14 Nov 2025) EndedAt: 2025-11-14 23:57:25 -0500 (Fri, 14 Nov 2025) EllapsedTime: 17.8 seconds RetCode: 0 Status: OK PackageFile: ZygosityPredictor_1.11.0.tgz PackageFileSize: 982.3 KiB