Package: YAPSA Version: 1.37.0 Command: /home/biocbuild/bbs-3.23-bioc/R/bin/R CMD INSTALL YAPSA StartedAt: 2025-11-14 15:50:28 -0500 (Fri, 14 Nov 2025) EndedAt: 2025-11-14 15:51:30 -0500 (Fri, 14 Nov 2025) EllapsedTime: 62.1 seconds RetCode: 0 Status: OK