Package: YAPSA Version: 1.37.0 Command: /Library/Frameworks/R.framework/Resources/bin/R CMD INSTALL YAPSA StartedAt: 2025-11-14 15:25:41 -0500 (Fri, 14 Nov 2025) EndedAt: 2025-11-14 15:26:06 -0500 (Fri, 14 Nov 2025) EllapsedTime: 24.7 seconds RetCode: 0 Status: OK