Package: YAPSA Version: 1.37.0 Command: /Library/Frameworks/R.framework/Resources/bin/R CMD build --keep-empty-dirs --no-resave-data YAPSA StartedAt: 2025-11-13 18:10:39 -0500 (Thu, 13 Nov 2025) EndedAt: 2025-11-13 18:12:08 -0500 (Thu, 13 Nov 2025) EllapsedTime: 88.4 seconds RetCode: 0 Status: OK PackageFile: YAPSA_1.37.0.tar.gz PackageFileSize: 4.015 MiB