Package: YAPSA Version: 1.37.0 Maintainer: Zuguang Gu MaintainerEmail: z.gu at dkfz.de git_url: https://git.bioconductor.org/packages/YAPSA git_branch: devel git_last_commit: f37ad09 git_last_commit_date: 2025-10-29 10:34:03 -0500 (Wed, 29 Oct 2025)