Package: XeniumIO Version: 1.3.0 Command: /home/biocbuild/bbs-3.23-bioc/R/bin/R CMD INSTALL XeniumIO StartedAt: 2025-11-11 15:40:38 -0500 (Tue, 11 Nov 2025) EndedAt: 2025-11-11 15:41:04 -0500 (Tue, 11 Nov 2025) EllapsedTime: 25.6 seconds RetCode: 0 Status: OK