Package: XeniumIO Version: 1.3.0 Command: /home/biocbuild/bbs-3.23-bioc/R/bin/R CMD build --keep-empty-dirs --no-resave-data XeniumIO StartedAt: 2025-11-11 20:51:44 -0500 (Tue, 11 Nov 2025) EndedAt: 2025-11-11 20:52:23 -0500 (Tue, 11 Nov 2025) EllapsedTime: 39.0 seconds RetCode: 0 Status: OK PackageFile: XeniumIO_1.3.0.tar.gz PackageFileSize: 229.5 KiB