Package: XeniumIO Version: 1.3.0 Command: /Library/Frameworks/R.framework/Resources/bin/R CMD INSTALL XeniumIO StartedAt: 2025-11-12 15:27:56 -0500 (Wed, 12 Nov 2025) EndedAt: 2025-11-12 15:27:56 -0500 (Wed, 12 Nov 2025) EllapsedTime: 0.4 seconds RetCode: 1 Status: ERROR