Package: XeniumIO Version: 1.3.0 Command: /Library/Frameworks/R.framework/Resources/bin/R CMD build --keep-empty-dirs --no-resave-data XeniumIO StartedAt: 2025-11-12 17:29:02 -0500 (Wed, 12 Nov 2025) EndedAt: 2025-11-12 17:29:03 -0500 (Wed, 12 Nov 2025) EllapsedTime: 1.0 seconds RetCode: 1 Status: ERROR PackageFile: None PackageFileSize: NA