Package: XVector Version: 0.51.0 Command: /home/biocbuild/bbs-3.23-bioc/R/bin/R CMD INSTALL XVector StartedAt: 2025-11-11 15:18:12 -0500 (Tue, 11 Nov 2025) EndedAt: 2025-11-11 15:18:26 -0500 (Tue, 11 Nov 2025) EllapsedTime: 14.0 seconds RetCode: 0 Status: OK