Package: XVector Version: 0.51.0 Command: /home/biocbuild/bbs-3.23-bioc/R/bin/R CMD build --keep-empty-dirs --no-resave-data XVector StartedAt: 2025-11-13 20:47:38 -0500 (Thu, 13 Nov 2025) EndedAt: 2025-11-13 20:47:39 -0500 (Thu, 13 Nov 2025) EllapsedTime: 1.0 seconds RetCode: 0 Status: OK PackageFile: XVector_0.51.0.tar.gz PackageFileSize: 67.48 KiB