Package: XVector Version: 0.51.0 Command: /Library/Frameworks/R.framework/Resources/bin/R CMD INSTALL XVector StartedAt: 2025-11-13 15:07:37 -0500 (Thu, 13 Nov 2025) EndedAt: 2025-11-13 15:07:43 -0500 (Thu, 13 Nov 2025) EllapsedTime: 5.7 seconds RetCode: 0 Status: OK